BEGIN:VCALENDAR
VERSION:2.0
PRODID:-//Putnam Place - ECPv6.15.20//NONSGML v1.0//EN
CALSCALE:GREGORIAN
METHOD:PUBLISH
X-WR-CALNAME:Putnam Place
X-ORIGINAL-URL:https://putnamplace.com
X-WR-CALDESC:Events for Putnam Place
REFRESH-INTERVAL;VALUE=DURATION:PT1H
X-Robots-Tag:noindex
X-PUBLISHED-TTL:PT1H
BEGIN:VTIMEZONE
TZID:America/New_York
BEGIN:DAYLIGHT
TZOFFSETFROM:-0500
TZOFFSETTO:-0400
TZNAME:EDT
DTSTART:20240310T070000
END:DAYLIGHT
BEGIN:STANDARD
TZOFFSETFROM:-0400
TZOFFSETTO:-0500
TZNAME:EST
DTSTART:20241103T060000
END:STANDARD
BEGIN:DAYLIGHT
TZOFFSETFROM:-0500
TZOFFSETTO:-0400
TZNAME:EDT
DTSTART:20250309T070000
END:DAYLIGHT
BEGIN:STANDARD
TZOFFSETFROM:-0400
TZOFFSETTO:-0500
TZNAME:EST
DTSTART:20251102T060000
END:STANDARD
BEGIN:DAYLIGHT
TZOFFSETFROM:-0500
TZOFFSETTO:-0400
TZNAME:EDT
DTSTART:20260308T070000
END:DAYLIGHT
BEGIN:STANDARD
TZOFFSETFROM:-0400
TZOFFSETTO:-0500
TZNAME:EST
DTSTART:20261101T060000
END:STANDARD
END:VTIMEZONE
BEGIN:VEVENT
DTSTART;TZID=America/New_York:20251231T220000
DTEND;TZID=America/New_York:20251231T220000
DTSTAMP:20260424T224849
CREATED:20251219T194522Z
LAST-MODIFIED:20251221T230618Z
UID:11206-1767218400-1767218400@putnamplace.com
SUMMARY:Raisinhead NYE Party
DESCRIPTION:Doors: 9:00pm\nShow: 10:00pm \nAges: 21+ \nTickets: $10 Advance / $15 Day of Show\n* $5 discount at door with Saratoga New Year’s Eve wristband \n** Click Here to Purchase Tickets ** \n  \nCome join us for a special New Year’s Eve party with Raisinhead. \nRaisinhead has been making music in the Capital District and well beyond for over 20 years. Their rich catalog of originals have an Americana feel with dynamic improvisational sections and covers ranging from Neil Young to the Talking Heads. Raisinhead’s live shows are spontaneous and energetic and never the same twice. \nAll the members of Raisinhead have a high level of musicianship and a long history with other area bands including Ominous Seapods\, Rob Beaulieu Band\, the Deadbeats\, Quantum Cosmic and Family Tree. Members of Raisinhead include Rob Beaulieu – guitar and vocals\, Ted Grey – guitar and vocals\, Tom Pirozzi – Bass and Vocals\, Brian Mangini – keyboards\, and Chad Ploss – Drums. \nWebsite: www.raisinhead.com \n  \n﻿ \n  \nReturn to Calenda
URL:https://putnamplace.com/event/raisinhead-nye-party/
LOCATION:Putnam Place\, 63a Putnam Street\, Saratoga Springs\, NY\, 12866\, United States
ATTACH;FMTTYPE=image/webp:https://putnamplace.com/wp-content/uploads/2025/12/Raisinhead_2025_Photo_WEBSITE.webp
END:VEVENT
END:VCALENDAR