BEGIN:VCALENDAR
VERSION:2.0
PRODID:-//Putnam Place - ECPv6.15.20//NONSGML v1.0//EN
CALSCALE:GREGORIAN
METHOD:PUBLISH
X-WR-CALNAME:Putnam Place
X-ORIGINAL-URL:https://putnamplace.com
X-WR-CALDESC:Events for Putnam Place
REFRESH-INTERVAL;VALUE=DURATION:PT1H
X-Robots-Tag:noindex
X-PUBLISHED-TTL:PT1H
BEGIN:VTIMEZONE
TZID:America/New_York
BEGIN:DAYLIGHT
TZOFFSETFROM:-0500
TZOFFSETTO:-0400
TZNAME:EDT
DTSTART:20240310T070000
END:DAYLIGHT
BEGIN:STANDARD
TZOFFSETFROM:-0400
TZOFFSETTO:-0500
TZNAME:EST
DTSTART:20241103T060000
END:STANDARD
BEGIN:DAYLIGHT
TZOFFSETFROM:-0500
TZOFFSETTO:-0400
TZNAME:EDT
DTSTART:20250309T070000
END:DAYLIGHT
BEGIN:STANDARD
TZOFFSETFROM:-0400
TZOFFSETTO:-0500
TZNAME:EST
DTSTART:20251102T060000
END:STANDARD
BEGIN:DAYLIGHT
TZOFFSETFROM:-0500
TZOFFSETTO:-0400
TZNAME:EDT
DTSTART:20260308T070000
END:DAYLIGHT
BEGIN:STANDARD
TZOFFSETFROM:-0400
TZOFFSETTO:-0500
TZNAME:EST
DTSTART:20261101T060000
END:STANDARD
END:VTIMEZONE
BEGIN:VEVENT
DTSTART;TZID=America/New_York:20250425T210000
DTEND;TZID=America/New_York:20250426T020000
DTSTAMP:20260421T042905
CREATED:20250318T192943Z
LAST-MODIFIED:20260303T225354Z
UID:10402-1745614800-1745632800@putnamplace.com
SUMMARY:Nicole Fiallo w/ Xamxara\, Ronnie Rave
DESCRIPTION:Doors: 9:00pm \nAges: 21+ \nTickets: $14 Early-bird / $19 Advance / $25 Day of Show \n** Click Here to Purchase Tickets ** \n  \nJoin us for our highly anticipated 2nd Annual Midnight Mass | Bloomin’\, an event that promises to be an unforgettable experience for all attendees. This year\, we are thrilled to announce that we will be featuring some of the world’s biggest and most renowned artists\, alongside a curated selection of the area’s favorite local talent. These performers are set to deliver an electrifying lineup that will keep you dancing and engaged throughout the night. Expect an evening filled with foot-stomping grooves\, infectious rhythms\, and captivating visuals that will transport you to another realm. \n  \n \nNicole Fiallo is a Cuban-American music producer hailing from Miami\, FL & now making a name for herself in New York City. She has earned a bubbling presence with her most recent releases on the likes of Techne Records\, Happy Techno\, Be One Records\, & HoTL\, as well as with her most recent success as a top 10 finalist in the elrow Up & Coming Talent competition for two consecutive years. With a stand out flair for tech house groovers & funky house flavors\, her energetic & fresh approach has marked her as one of the most exciting producers to emerge on the scene. \nWebsite: www.nicolefiallo.com \n  \n  \n \nXamxara is the dynamic fusion of two distinct creative forces: Ali Gria and Jungle Punk. Blending melodic house\, afro house\, and organic house beats. \nWebsite: Xamxara on Instagram \n  \n  \n \nBased in the Hudson Valley NY – Ronnie has grown up in the Rave scene going to her first rave at an early age and seeing the amazing nightlife House & Techno scene in NYC. This was were her love for House\, Tech House & Techno Music started. She started out as a DJ Assistant and just helping out at parties and events. Then progressing into working light shows and helping with track selections. She fell into music production during the lockdown as she had more time to learn how to make tracks and sample loops. She has an interesting style Blending house music\, tech house and techno\, her music has a fun club vibe that will keep the dancefloor dancing. \nWebsite: www.beatport.com/artist/dj-ronnie-rave/996900 \n  \nReturn to Calendar
URL:https://putnamplace.com/event/nicole-fiallo-w-xamxara-ronnie-rave/
LOCATION:Putnam Place\, 63a Putnam Street\, Saratoga Springs\, NY\, 12866\, United States
CATEGORIES:Concerts,Nightclub
ATTACH;FMTTYPE=image/webp:https://putnamplace.com/wp-content/uploads/2025/03/AllOfUs_2025_04_25_WEBSITE.webp
END:VEVENT
END:VCALENDAR