BEGIN:VCALENDAR
VERSION:2.0
PRODID:-//Putnam Place - ECPv6.15.20//NONSGML v1.0//EN
CALSCALE:GREGORIAN
METHOD:PUBLISH
X-WR-CALNAME:Putnam Place
X-ORIGINAL-URL:https://putnamplace.com
X-WR-CALDESC:Events for Putnam Place
REFRESH-INTERVAL;VALUE=DURATION:PT1H
X-Robots-Tag:noindex
X-PUBLISHED-TTL:PT1H
BEGIN:VTIMEZONE
TZID:America/New_York
BEGIN:DAYLIGHT
TZOFFSETFROM:-0500
TZOFFSETTO:-0400
TZNAME:EDT
DTSTART:20250309T070000
END:DAYLIGHT
BEGIN:STANDARD
TZOFFSETFROM:-0400
TZOFFSETTO:-0500
TZNAME:EST
DTSTART:20251102T060000
END:STANDARD
BEGIN:DAYLIGHT
TZOFFSETFROM:-0500
TZOFFSETTO:-0400
TZNAME:EDT
DTSTART:20260308T070000
END:DAYLIGHT
BEGIN:STANDARD
TZOFFSETFROM:-0400
TZOFFSETTO:-0500
TZNAME:EST
DTSTART:20261101T060000
END:STANDARD
BEGIN:DAYLIGHT
TZOFFSETFROM:-0500
TZOFFSETTO:-0400
TZNAME:EDT
DTSTART:20270314T070000
END:DAYLIGHT
BEGIN:STANDARD
TZOFFSETFROM:-0400
TZOFFSETTO:-0500
TZNAME:EST
DTSTART:20271107T060000
END:STANDARD
END:VTIMEZONE
BEGIN:VEVENT
DTSTART;TZID=America/New_York:20260501T210000
DTEND;TZID=America/New_York:20260501T233000
DTSTAMP:20260424T043552
CREATED:20260422T044844Z
LAST-MODIFIED:20260422T044954Z
UID:11866-1777669200-1777678200@putnamplace.com
SUMMARY:Luko Adjaffi
DESCRIPTION:Doors: 8:00pm\nShow: 9:00pm \nAges: 21+ \nTickets: $10 \n** Click Here to Purchase Tickets ** \n  \nLuko Adjaffi is a songwriter\, singer\, composer\, producer and CEO of Mervilton records. Luko Adjaffi was born Jocelyn Beauvil May 18 1966\, influenced by his native Haitian and Dominican ancestry. Fluent in English\, French Spanish and Creole he artfully weaves French and English throughout his lyrical ballads. Many of his songs are written and sung in French. Many critics and fans see Bob Marley’s spirit in his eclectic fusion of ballad\, reggae\, Caribbean style music. In the United States\, he has performed in several Bob Marley Festivals. Luko is a songwriter\, performer\, producer\, composer\, actor and vocal artist. \nFrom the age of five\, performing in church\, he became a youth sensation by the age of 7 performing in talent competitions all around Haiti. In school\, Luko learned classical music with private French teachers on music theory. At 10 years old he learned to play the guitar and wrote his first song; “La Bataille” one of his teachers was impressed and noted ” you’ll be a singer.” That little voice inside of Luko pushed him to complete Elementary School through High School. Luko finally took his education seriously while writing of the sorrow of Haiti’s problems. He attended the University of Bruxelles in Brussels\, Belgium from 1986-1988 studying music as an exchange student. Three years later he came to the United States of America where he recorded “La Terre” (1989) after extensive travel to Venezuela\, Aruba\, Curacao\, Germany\, Holland\, France. \nWebsite: www.lukoadjaffi.com \n  \n﻿
URL:https://putnamplace.com/event/luko-adjaffi/
CATEGORIES:Concerts
ATTACH;FMTTYPE=image/webp:https://putnamplace.com/wp-content/uploads/2026/04/LukoAdjaffi.webp
END:VEVENT
END:VCALENDAR