BEGIN:VCALENDAR
VERSION:2.0
PRODID:-//Putnam Place - ECPv6.15.20//NONSGML v1.0//EN
CALSCALE:GREGORIAN
METHOD:PUBLISH
X-WR-CALNAME:Putnam Place
X-ORIGINAL-URL:https://putnamplace.com
X-WR-CALDESC:Events for Putnam Place
REFRESH-INTERVAL;VALUE=DURATION:PT1H
X-Robots-Tag:noindex
X-PUBLISHED-TTL:PT1H
BEGIN:VTIMEZONE
TZID:America/New_York
BEGIN:DAYLIGHT
TZOFFSETFROM:-0500
TZOFFSETTO:-0400
TZNAME:EDT
DTSTART:20250309T070000
END:DAYLIGHT
BEGIN:STANDARD
TZOFFSETFROM:-0400
TZOFFSETTO:-0500
TZNAME:EST
DTSTART:20251102T060000
END:STANDARD
BEGIN:DAYLIGHT
TZOFFSETFROM:-0500
TZOFFSETTO:-0400
TZNAME:EDT
DTSTART:20260308T070000
END:DAYLIGHT
BEGIN:STANDARD
TZOFFSETFROM:-0400
TZOFFSETTO:-0500
TZNAME:EST
DTSTART:20261101T060000
END:STANDARD
BEGIN:DAYLIGHT
TZOFFSETFROM:-0500
TZOFFSETTO:-0400
TZNAME:EDT
DTSTART:20270314T070000
END:DAYLIGHT
BEGIN:STANDARD
TZOFFSETFROM:-0400
TZOFFSETTO:-0500
TZNAME:EST
DTSTART:20271107T060000
END:STANDARD
END:VTIMEZONE
BEGIN:VEVENT
DTSTART;TZID=America/New_York:20260207T190000
DTEND;TZID=America/New_York:20260207T230000
DTSTAMP:20260425T130600
CREATED:20251218T184818Z
LAST-MODIFIED:20260303T223219Z
UID:11178-1770490800-1770505200@putnamplace.com
SUMMARY:Livewire 518 w/ Defy Logic\, My Prophecy\, Mild Wally
DESCRIPTION:Doors: 6:00pm\nShow: 7:00pm \nAges: 21+ \nTickets: $25 Advance / $30 Day of Show \n** Click Here to Purchase Tickets ** \n  \nGet ready to rock harder than ever before with Livewire 518\, the ultimate Mötley Crüe tribute experience! Their electrifying new show features all the hits\, wild stage antics\, and raw energy that will transport you straight to the heart of the 80s rock scene. Don’t miss out on the adrenaline-fueled performances and unforgettable nights of pure rock ‘n’ roll. Grab your tickets now and join them for an epic journey through Mötley Crüe’s legendary music! \nWebsite: www.livewire518.com \n  \n﻿ \n  \n  \n \nDefy Logic is the newest pop goes rock band from the 518. \nVisit Defy Logic on Facebook \n  \n  \n \nMy Prophecy is an American Rock band based in Saratoga Springs\, New York. They originally formed on April 7th\, 2017 under their original name Chrihavoc. They took a semi-permanent hiatus from 2018-2020. The new lineup contains Lead Vocalist and Rhythm Guitarist Evan Gori\, Drummer Jack LaBatti\, Rhythm Guitarist Schuyler Meyers\, Bassist Josh Dingman\, and Keyboardist Josh DeJulio. Now they’re back on the road ready to make new music and hit the stage once again. Their musical style is multiple genres of rock and metal. Their music goes from Pop Punk/Punk Rock to Hard Rock/Metal and in some cases Metalcore. They want to prove to the world that Rock music is not dead and they will not be silenced by the modern music. They will not stop until they build up a legacy and retire. They believe in fulfilling the prophecy within themselves and to make the world a better place. \nWebsite: www.facebook.com/myprophecyband \n  \n  \n \nMild Wally is a new emo band based out of Albany\, NY! Seth Betz and Steven Oberting are here to reinvent the genre and supply you with heartbreak and some basement moshing! \nWebsite: https://mildwally.godaddysites.com \n  \nReturn to Calendar \n 
URL:https://putnamplace.com/event/livewire-518-w-defy-logic-my-prophecy-mild-wally/
LOCATION:Putnam Place\, 63a Putnam Street\, Saratoga Springs\, NY\, 12866\, United States
CATEGORIES:Concerts
ATTACH;FMTTYPE=image/webp:https://putnamplace.com/wp-content/uploads/2025/12/Livewire518_Photo_WEBSITE.webp
END:VEVENT
END:VCALENDAR