BEGIN:VCALENDAR
VERSION:2.0
PRODID:-//Putnam Place - ECPv6.15.20//NONSGML v1.0//EN
CALSCALE:GREGORIAN
METHOD:PUBLISH
X-WR-CALNAME:Putnam Place
X-ORIGINAL-URL:https://putnamplace.com
X-WR-CALDESC:Events for Putnam Place
REFRESH-INTERVAL;VALUE=DURATION:PT1H
X-Robots-Tag:noindex
X-PUBLISHED-TTL:PT1H
BEGIN:VTIMEZONE
TZID:America/New_York
BEGIN:DAYLIGHT
TZOFFSETFROM:-0500
TZOFFSETTO:-0400
TZNAME:EDT
DTSTART:20250309T070000
END:DAYLIGHT
BEGIN:STANDARD
TZOFFSETFROM:-0400
TZOFFSETTO:-0500
TZNAME:EST
DTSTART:20251102T060000
END:STANDARD
BEGIN:DAYLIGHT
TZOFFSETFROM:-0500
TZOFFSETTO:-0400
TZNAME:EDT
DTSTART:20260308T070000
END:DAYLIGHT
BEGIN:STANDARD
TZOFFSETFROM:-0400
TZOFFSETTO:-0500
TZNAME:EST
DTSTART:20261101T060000
END:STANDARD
BEGIN:DAYLIGHT
TZOFFSETFROM:-0500
TZOFFSETTO:-0400
TZNAME:EDT
DTSTART:20270314T070000
END:DAYLIGHT
BEGIN:STANDARD
TZOFFSETFROM:-0400
TZOFFSETTO:-0500
TZNAME:EST
DTSTART:20271107T060000
END:STANDARD
END:VTIMEZONE
BEGIN:VEVENT
DTSTART;TZID=America/New_York:20260113T190000
DTEND;TZID=America/New_York:20260113T210000
DTSTAMP:20260424T131950
CREATED:20251211T015717Z
LAST-MODIFIED:20260303T194504Z
UID:11172-1768330800-1768338000@putnamplace.com
SUMMARY:Chuck Lamb Trio w/ The Dylan Perrillo Orchestra
DESCRIPTION:Doors: 6:00pm\nShow: 7:00pm \nAges: All Ages \nTickets: $41.21 (inclusive of fees) \n** Click Here to Purchase Tickets ** \n  \nCaffè Lena brings its acclaimed Jazz at Caffè Lena series to Putnam Place for a spectacular evening uniting two generations of jazz artistry: Chuck Lamb Trio and The Dylan Perrillo Orchestra. \n  \n \nFor more than two decades\, Chuck Lamb has been the pianist with the legendary Brubeck Brothers Quartet\, performing on world stages and earning acclaim for his passionate\, expressive style. A gifted composer and improviser\, his work spans jazz\, fusion\, classical\, and world music—each performance a journey between lyrical beauty and electrifying intensity. \nWebsite: www.chucklambmusic.com \n  \n﻿ \n  \n  \n \nHailing from Albany\, NY\, The Dylan Perrillo Orchestra brings the golden age of American jazz to life with a modern sensibility and infectious energy. With six horns\, a violin\, rhythm section\, and vocalist\, this 10-piece ensemble captures the charm and sophistication of the 1920s–1950s jazz era—reimagining timeless songs with fresh\, vibrant spirit. \nWebsite: www.dylanperrillo.com/dylanperrilloorchestra \n  \n﻿ \n  \nReturn to Calendar \n  \n 
URL:https://putnamplace.com/event/chuck-lamb-trio-the-dylan-perillo-orchestra/
LOCATION:Putnam Place\, 63a Putnam Street\, Saratoga Springs\, NY\, 12866\, United States
CATEGORIES:Concerts
ATTACH;FMTTYPE=image/webp:https://putnamplace.com/wp-content/uploads/2025/12/ChuckLamb_01_13_26_WEBSITE.webp
END:VEVENT
END:VCALENDAR