BEGIN:VCALENDAR
VERSION:2.0
PRODID:-//Putnam Place - ECPv6.15.20//NONSGML v1.0//EN
CALSCALE:GREGORIAN
METHOD:PUBLISH
X-WR-CALNAME:Putnam Place
X-ORIGINAL-URL:https://putnamplace.com
X-WR-CALDESC:Events for Putnam Place
REFRESH-INTERVAL;VALUE=DURATION:PT1H
X-Robots-Tag:noindex
X-PUBLISHED-TTL:PT1H
BEGIN:VTIMEZONE
TZID:America/New_York
BEGIN:DAYLIGHT
TZOFFSETFROM:-0500
TZOFFSETTO:-0400
TZNAME:EDT
DTSTART:20250309T070000
END:DAYLIGHT
BEGIN:STANDARD
TZOFFSETFROM:-0400
TZOFFSETTO:-0500
TZNAME:EST
DTSTART:20251102T060000
END:STANDARD
BEGIN:DAYLIGHT
TZOFFSETFROM:-0500
TZOFFSETTO:-0400
TZNAME:EDT
DTSTART:20260308T070000
END:DAYLIGHT
BEGIN:STANDARD
TZOFFSETFROM:-0400
TZOFFSETTO:-0500
TZNAME:EST
DTSTART:20261101T060000
END:STANDARD
BEGIN:DAYLIGHT
TZOFFSETFROM:-0500
TZOFFSETTO:-0400
TZNAME:EDT
DTSTART:20270314T070000
END:DAYLIGHT
BEGIN:STANDARD
TZOFFSETFROM:-0400
TZOFFSETTO:-0500
TZNAME:EST
DTSTART:20271107T060000
END:STANDARD
END:VTIMEZONE
BEGIN:VEVENT
DTSTART;TZID=America/New_York:20260606T203000
DTEND;TZID=America/New_York:20260606T234500
DTSTAMP:20260421T002812
CREATED:20260421T000518Z
LAST-MODIFIED:20260421T000518Z
UID:11816-1780777800-1780789500@putnamplace.com
SUMMARY:Bearly Dead
DESCRIPTION:Doors: 7:30pm\nShow: 8:30pm \nAges: 18+ \nTickets: $20Advance / $25 Day of Show \n** Click Here to Purchase Tickets ** \n  \nNot just another Grateful Dead cover band. A cosmic exploration of the Grateful Dead catalog! Bearly Dead\, Boston-based quintet\, performs a concert-style show that celebrates the journey of the Grateful Dead from their earliest records until their final tours. The band delivers a full-spectrum concert experience filled with danceable energy and world-class musicianship. Each and every Grateful Dead member is honored through a collection of classics\, b-sides\, deep cuts\, and exploratory jams. Holding true to the spirit of the music\, Bearly Dead frequently adds to their 250+ song catalog and continues to showcase authentic\, spontaneous improvisation – live and in-person – making each show a wildly unique Grateful Dead experience you do not want to miss. \nBearly Dead played their first show at Church of Boston\, in 2015\, marking the beginning of its hallowed Wednesday Night Residency. Over the next 5 years the phrase “Never Miss A Wednesday Show” became ubiquitous around Boston and Bearly Dead was nominated multiple times for Boston Music Awards Live Music Residency of the Year. Fans really never knew what might happen\, the band never knew what might happen! Bearly Dead shows have featured notable appearances by Mike Campbell (Tom Petty & The Heartbreakers)\, Paul Wolstencroft (Slightly Stoopid)\, Steve Molitz (Particle/Phil Lesh & Friends)\, Kebbi Williams (Tedeschi Trucks Band)\, Rob Compa (Dopapod)\, Hayley Jane (Hayley Jane & The Primates)\, Richard James (Neighbor)\, and Johnny Trama (Dub Apocalypse) — and even a surprise appearance by Jerry Garcia’s “Wolf” guitar in 2018 on Jerry Garcia’s birthday! \nIn 2020\, Bearly Dead began performing at other prestigious Massachusetts venues\, including headline shows at Paradise Rock Club\, Sinclair\, Worcester Palladium\, MGM Music Hall Fenway\, and House of Blues Boston. After becoming a staple in the Northeast US festival community with multiple appearances at Camp Creek\, Jerry Jam\, Strangecreek\, Wormtown\, and many more\, it was only a matter of time before Bearly Dead shows were being requested in all corners of the country. In October 2022\, the band saddled up a new van and began touring nationally\, performing their interpretation of the catalog across the United States and growing the Bearly Dead Family all along the way. \nWebsite: www.bearlydeadmusic.com \n  \n﻿ \n  \nReturn to Calendar
URL:https://putnamplace.com/event/bearly-dead-06-06-26/
LOCATION:Putnam Place\, 63a Putnam Street\, Saratoga Springs\, NY\, 12866\, United States
CATEGORIES:Concerts
ATTACH;FMTTYPE=image/webp:https://putnamplace.com/wp-content/uploads/2026/04/BearlyDead_2026_Photo_WEBSITE.webp
END:VEVENT
END:VCALENDAR