BEGIN:VCALENDAR
VERSION:2.0
PRODID:-//Putnam Place - ECPv6.15.20//NONSGML v1.0//EN
CALSCALE:GREGORIAN
METHOD:PUBLISH
X-WR-CALNAME:Putnam Place
X-ORIGINAL-URL:https://putnamplace.com
X-WR-CALDESC:Events for Putnam Place
REFRESH-INTERVAL;VALUE=DURATION:PT1H
X-Robots-Tag:noindex
X-PUBLISHED-TTL:PT1H
BEGIN:VTIMEZONE
TZID:America/New_York
BEGIN:DAYLIGHT
TZOFFSETFROM:-0500
TZOFFSETTO:-0400
TZNAME:EDT
DTSTART:20250309T070000
END:DAYLIGHT
BEGIN:STANDARD
TZOFFSETFROM:-0400
TZOFFSETTO:-0500
TZNAME:EST
DTSTART:20251102T060000
END:STANDARD
BEGIN:DAYLIGHT
TZOFFSETFROM:-0500
TZOFFSETTO:-0400
TZNAME:EDT
DTSTART:20260308T070000
END:DAYLIGHT
BEGIN:STANDARD
TZOFFSETFROM:-0400
TZOFFSETTO:-0500
TZNAME:EST
DTSTART:20261101T060000
END:STANDARD
BEGIN:DAYLIGHT
TZOFFSETFROM:-0500
TZOFFSETTO:-0400
TZNAME:EDT
DTSTART:20270314T070000
END:DAYLIGHT
BEGIN:STANDARD
TZOFFSETFROM:-0400
TZOFFSETTO:-0500
TZNAME:EST
DTSTART:20271107T060000
END:STANDARD
END:VTIMEZONE
BEGIN:VEVENT
DTSTART;TZID=America/New_York:20260226T200000
DTEND;TZID=America/New_York:20260226T230000
DTSTAMP:20260424T154031
CREATED:20251111T150005Z
LAST-MODIFIED:20260303T201740Z
UID:11101-1772136000-1772146800@putnamplace.com
SUMMARY:Badfish: A Tribute to Sublime w/ Beach Fly
DESCRIPTION:Doors: 7:00pm (VIP Doors @ 6pm)\nShow: 8:00pm \nAges: 18+ \nTickets: General Admission – $25 Advance / $30 Day of Show \n** Click Here to Purchase Tickets ** \n  \nBadfish is a vibe. Badfish is a sonic house party complete with plenty of gyrating fans sipping libations and enjoying various extracurricular activities. Badfish is feel-good music. \nFor almost 25 years\, the Rhode Island-based band – Joel Hanks on bass\, Scott Begin on drums\, Pat Downes on vocals and guitar\, Danny Torgersen on horns\, keyboards\, and guitars – have successfully paid tribute to Sublime\, the influential California group that brought ska-punk and reggae-rock to the mainstream. Badfish’s heartfelt celebration of Sublime’s musical spirit and legacy is so sought-after that they’ve headlined theaters\, sold out shows\, and played 15-20 gigs a month. \nBut now\, Badfish is more. After two decades of Sublime reverence\, Badfish originality is stomping into high gear. Badfish recently released its second new song\, the anthemic\, groove-fortified “F You Pay Me\,” with special guest Grieves\, as the follow-up to the band’s first single\, “High With You.” Now the Sublime repertoire is nicely augmented by fresh original tracks that blend seamlessly together. \nWebsite: www.badfish.com \n  \n﻿ \n  \n  \n \nBeach Fly is the feel-good musical project led by John DeMari. He got his start interviewing some of his favorite artists like Slightly Stoopid\, Pepper\, and Iration on the 2 Minute Podcast. \nBeach Fly’s homegrown\, organic sound is a refreshing blend of modern reggae influences and feel-good beachside rhythms. Drawing inspiration from bands like Slightly Stoopid and Rebelution\, as well as acoustic-driven favorites like Jack Johnson and Xavier Rudd\, their music captures the essence of laid-back coastal living. \nWith smooth melodies\, uplifting lyrics\, and infectious grooves\, Beach Fly is on a mission to transport you straight to a sun-soaked paradise. Whether you’re catching waves\, relaxing with friends\, or simply looking for an escape\, their sound delivers the ultimate tropical vibes. \nWebsite: www.beachflymusic.com \n  \n﻿ \n  \nReturn to Calendar
URL:https://putnamplace.com/event/badfish-a-tribute-to-sublime-w-beach-fly/
LOCATION:Putnam Place\, 63a Putnam Street\, Saratoga Springs\, NY\, 12866\, United States
CATEGORIES:Concerts
ATTACH;FMTTYPE=image/webp:https://putnamplace.com/wp-content/uploads/2025/11/Badfish_2024_PressPhoto_Color_WEBSITE.webp
END:VEVENT
END:VCALENDAR